BEGIN:VCALENDAR
VERSION:2.0
PRODID:https://github.com/derhansen/sf_event_mgt
METHOD:PUBLISH
BEGIN:VEVENT
UID:601-375@www.thf-berlin.de
CLASS: PUBLIC
SUMMARY:THFxSpezial – Geschichte der Leuchtbuchstaben
DESCRIPTION:Im vergangenen Winter wurden die historischen Leuchtbuchstaben 
 „BERLIN-TEMPELHOF“ (errichtet 1973) vom Dach des Flughafens Tempelhof demon
 tiert und zur Restaurierung in eine Fachwerkstatt nach Hoppegarten überführ
 t. Die Instandsetzung erfolgte unter Mitwirkung der ursprünglichen Herstell
 erfirma sowie spezialisierten Handwerker:innen und Glasbläser:innen und dau
 erte nahezu ein Jahr. Ende September kehren die insgesamt 16, jeweils rund 
 zwei Meter hohen Buchstaben an ihren ursprünglichen Standort zurück.\n\nBev
 or die Leuchtschrift wieder auf dem Flughafendach installiert wird, besteht
  die Möglichkeit, sie für die Dauer einer Woche auf dem Vorfeld aus nächste
 r Nähe zu besichtigen. Die Präsentation wird durch eine begleitende Ausstel
 lung und Sonderführungen ergänzt.\n\nTHFxSpezial zur Geschichte der Leuchtb
 uchstaben\n\nDen Auftakt bildet die Abendveranstaltung THFxSpezial am 7. Ok
 tober um 19 Uhr. Restauratorin Sarah Gschlecht und Typograf Erik Spiekerman
 n erläutern Besonderheiten und Hintergründe der Leuchtschrift. Die Einführu
 ng und Moderation übernimmt Heinz Jirout, Denkmalkoordinator der Tempelhof 
 Projekt GmbH.\n\nDer Eintritt ist kostenlos, eine Anmeldung ist erforderlic
 h\n\nAlle Tickets sind ausgebucht\n\nWeitere Highlights\n\nTHF leuchtet\n\n
 Zum 102. Geburtstag des Flughafens erstrahlt der ikonische Schriftzug "BERL
 IN-TEMPELHOF" in neuem Glanz. Feiern Sie mit uns und seien Sie dabei! Entde
 cken Sie die restaurierte Leuchtschrift, spannende Führungen, interessante 
 Talks und eine spektakuläre Lichtinstallation beim Festival of Lights.\n\nZ
 um vollen Programm von THF leuchtet 
LOCATION:THF TOWER
DTSTAMP:20251006T090336Z
DTSTART:20251007T170000Z
DTEND:20251007T193000Z
END:VEVENT
END:VCALENDAR
