BEGIN:VCALENDAR
VERSION:2.0
PRODID:https://github.com/derhansen/sf_event_mgt
METHOD:PUBLISH
BEGIN:VEVENT
UID:615-375@www.thf-berlin.de
CLASS: PUBLIC
SUMMARY:Lesung: Berlin im Nationalsozialismus
DESCRIPTION:Nach nur zwölf Jahren nationalsozialistischer Herrschaft ist di
 e Hauptstadt Deutschlands nicht mehr wiederzuerkennen. Ihr neues Buch “Berl
 in im Nationalsozialismus” verstehen die Autoren Christoph Kreutzmüller und
  Bjoern Weigel als eine Abrissgeschichte. Zugleich ist es eine Alltagsgesch
 ichte, die auf viele Bereiche des Berliner Stadtlebens blickt und eindrucks
 voll aufzeigen kann, was durch die nationalsozialistische Politik in Berlin
  zerstört wurde.\n\nBeide Autoren richten dabei ihren Blick in die Kneipen,
  auf die Straßen und sogar in die Schlafzimmer der Berliner:innen während d
 er NS-Zeit und offenbaren dabei, wie tief das Regime und seine Ideologie in
  die Leben der Menschen hineinwirkten.\n\nBei ihrer Lesung geben sie unsere
 n Gästen davon einen Eindruck.\n\nTHFxGESCHICHTE\n\nWeitere Termine\n\nAm 1
 2. November zeigen wir im Rahmen unsere THFxGESCHICHTE-Reihe den Dokumentar
 film Flug “LO 165 – Flugzeugentführung in die Freiheit”.
LOCATION:THF TOWER
DTSTAMP:20251103T125344Z
DTSTART:20251105T180000Z
DTEND:20251105T200000Z
END:VEVENT
END:VCALENDAR
