BEGIN:VCALENDAR
VERSION:2.0
PRODID:https://github.com/derhansen/sf_event_mgt
METHOD:PUBLISH
BEGIN:VEVENT
UID:638-375@www.thf-berlin.de
CLASS: PUBLIC
SUMMARY:SportScheck Run Berlin 2026
DESCRIPTION:Der Hangar 5, der Hangar 6 und das Vorfeld des ehemaligen Flugh
 afen Tempelhof werden am 17. Oktober 2026 zu einer einzigartigen Eventlocat
 ion. Mit Einbruch der Dunkelheit starten die Kinder beim Bambini RUN und Ki
 ds RUN über das weitläufige Vorfeld, bevor die Erwachsenen sich über 5 km, 
 10 km oder den Halbmarathon auf dem historischen Flugfeld messen.Die Streck
 e führt die Runner über die Start- und Landebahnen, vorbei am ikonischen Ro
 sinenbomber, und garantiert mit beeindruckender Beleuchtung und einzigartig
 er Atmosphäre ein unvergessliches Lauferlebnis. Die Kombination aus Geschic
 hte, Licht und Stimmung macht diesen Lauf zu einem ganz besonderen Highligh
 t.Die Teilnahme beim 5 km und 10 km RUN ist für Personen ab 12 Jahren gesta
 ttet. Der Halbmarathon ist ab 16 Jahren möglich. Kinder von 7 bis 12 Jahren
  können am Kids RUN und Kinder unter 7 Jahren am Bambini RUN teilnehmen.\n\
 nAlle Infos zum SportScheck Run auf einen Blick\n\nTermin: Samstag den 17. 
 Oktober 2026Verfügbare Distanzen: 5km (18:00 Uhr), 10km (19:00 Uhr) oder 21
 ,1km (19:05 Uhr)Inkl. SportScheck RUN Shirt + Chip für die ZeitmessungVergü
 nstigter Super Early Bird Preis bis 6 Monate vor dem RUNKeine Startgebühr f
 ür SportScheck PREMIUM-Club-MitgliederErmäßigte Startgebühr für Schüler/Stu
 denten und GruppenTeam Anmeldung: Bei Ticketbestellungen von mindestens 5 g
 leichen RUN-Tickets (gleiche Distanz & Stadt), erhältst du 10% Rabatt im dr
 itten Bestellschritt „Prüfen & Bestellen“. Dieser Rabatt wird automatisch a
 bgezogen.Die Teilnahme beim 5 km und 10 km RUN ist für Personen ab 12 Jahre
 n gestattet. Der Halbmarathon ist ab 16 Jahren möglich. Es ist jedoch empfe
 hlenswert, dass Kinder und Jugendliche kürzere Strecken laufen. \n\nAlle In
 fos für den SportScheck Run Kids\n\nTermin: Samstag den 17. Oktober 2026Ver
 fügbare Distanz: 0,4km (17:00 Uhr) oder 1,5km (17:30 Uhr)Die Teilnahme am B
 ambini RUN ist von 0 bis einschließlich 7 Jahren gestattetDie Teilnahme am 
 Kids RUN ist für Kinder von 7 bis 12 Jahren gestattetInkl. hochwertiges Spo
 rtScheck RUN ShirtTeam Anmeldung: Bei Ticketbestellungen von mindestens 5 g
 leichen RUN-Tickets (gleiche Distanz & Stadt), erhältst du 10% Rabatt im dr
 itten Bestellschritt „Prüfen & Bestellen“. Dieser Rabatt wird automatisch a
 bgezogen. 
LOCATION:Flughafen Tempelhof Hangar 5
DTSTAMP:20260205T133346Z
DTSTART:20261017T150000Z
END:VEVENT
END:VCALENDAR
