BEGIN:VCALENDAR
VERSION:2.0
PRODID:https://github.com/derhansen/sf_event_mgt
METHOD:PUBLISH
BEGIN:VEVENT
UID:694-375@www.thf-berlin.de
CLASS: PUBLIC
SUMMARY:Festival der Riesendrachen
DESCRIPTION:Am 12. September 2026 verwandelt sich das Tempelhofer Feld erne
 ut in ein farbenfrohes Highlight für die ganze Familie: Beim 13. STADT UND 
 LAND Festival der Riesendrachen steigen tausende Drachen in den Himmel über
  Berlin. Von 11 bis 20 Uhr erwartet Besucher:innen eines der beliebtesten F
 amilienevents in Berlin – mit freiem Eintritt.\n\nEin Highlight für die gan
 ze Familie\n\nSeit vielen Jahren zählt das Drachenfestival zu den festen Gr
 ößen im Berliner Veranstaltungskalender. Das Drachenfestival Berlin begeist
 ert jährlich zehntausende Gäste und ist ein generationsübergreifendes Erleb
 nis für Kinder, Familien und Drachenfans.\n\nEin besonderes Highlight sind 
 die spektakulären Riesendrachen, die teilweise mehrere Dutzend Meter groß s
 ind. Internationale Drachenpilot:innen präsentieren ihre beeindruckenden Fl
 ugobjekte und machen den Himmel über dem Tempelhofer Feld zur einzigartigen
  Bühne.\n\nNeben den spektakulären Flugshows gibt es zahlreiche Möglichkeit
 en zum Mitmachen:\n\nEigene Drachen steigen lassenKreative MitmachangeboteS
 piel- und Erlebnisaktionen für die ganze Familien\n\nBegleitet wird das far
 benfrohe Spektakel von einem lebendigen Rahmenprogramm mit Musik, Aktionen 
 für Kinder und kulinarischen Angeboten.\n\nDas STADT UND LAND Festival der 
 Riesendrachen 2026 ist kostenlos und ohne Anmeldung zugänglich.\n\nVeransta
 ltungen am Flughafen Tempelhof\n\nLust auf noch mehr Events am Flughafen Te
 mpelhof? Dann werft einen Blick in unseren Veranstaltungskalender!
LOCATION:Eingang Tempelhofer Feld West
DTSTAMP:20260416T075730Z
DTSTART:20260912T090000Z
DTEND:20260912T180000Z
END:VEVENT
END:VCALENDAR
