BEGIN:VCALENDAR
VERSION:2.0
PRODID:https://github.com/derhansen/sf_event_mgt
METHOD:PUBLISH
BEGIN:VEVENT
UID:547-375@www.thf-berlin.de
CLASS: PUBLIC
SUMMARY:Familienfest zum Ferienstart am THF
DESCRIPTION:Wir laden Sie herzlich ein gemeinsam mit uns ein Familienfest z
 um Ferienstart zu feiern. Erleben Sie mit uns Livemusik, Food und Getränke 
 der Brauerei Neulich, Kinderschminken, Stelzenläufer und vieles mehr. \n\nD
 er Eintritt für die gesamte Familie ist kostenfrei!\n\nProgramm\n\nAuf der 
 Sommerbühne am THF TOWER im Neulich Biergarten:\n\nab 15 Uhr: Ka Whoops Sho
 w\n\nab 15:30 Uhr: Kabinet Mirage “Wasserklang”  \n\n16:30 Uhr: Ka Whoops z
 um Mitmachen \n\nab 17 Uhr: Suli Puschban mit ihren Freunden Dota, Kiri Rak
 ete, Astrid Hauke, Disnay Lopez, Carrington-Brown, Amandine Thiriet\n\nab 1
 8:30 Uhr: Kabinet Mirage "Double Wobble"\n\nab 20:00 Uhr: Sector 5\n\n\n\nH
 inweise:\n\n- Der THF TOWER ist ab 14 Uhr geöffnet. Der Eintritt ist frei.\
 n\nBei schlechtem Wetter findet das Familienfest in der 6. Etage im THF TOW
 ER statt. 
LOCATION:THF TOWER
DTSTAMP:20250723T062439Z
DTSTART:20250723T120000Z
DTEND:20250723T193000Z
END:VEVENT
END:VCALENDAR
