BEGIN:VCALENDAR
VERSION:2.0
PRODID:https://github.com/derhansen/sf_event_mgt
METHOD:PUBLISH
BEGIN:VEVENT
UID:695-375@www.thf-berlin.de
CLASS: PUBLIC
SUMMARY:Ernst Reuter und die Freiheit Berlins
DESCRIPTION:In Kooperation mit der Stiftung Luftbrückendank laden wir Sie a
 m 12. Mai 2026 zu THFxGESCHICHTE ein. \n\nKaum ein anderer Name ist so sehr
  mit dem Kampf um die Freiheit Berlins während der sowjetischen Blockade 19
 48/49 verbunden wie der Ernst Reuters. In einer Zeit der existenziellen Bed
 rohung wurde er zur wichtigsten Stimme der Menschen für Selbstbehauptung un
 d Demokratie. Während die Alliierten die Versorgung der Stadt aus der Luft 
 organisierten, überzeugte Reuter sie von der festen Entschlossenheit der Be
 rliner Bevölkerung, sich nicht dem Willen Stalins zu beugen.\n\nAnlässlich 
 des 77. Jahrestags der Aufhebung der Blockade wird der Vortrag auf dieses f
 ür die Geschichte Berlins entscheidende Kapitel zurückblicken. Gleichzeitig
  stellen sich aber auch wichtige Fragen an die Gegenwart: Was ist von Reute
 rs Einsatz geblieben? Kann seine Person heute überhaupt noch als Vorbild di
 enen?\n\nVeranstaltungen am Flughafen Tempelhof\n\nLust auf noch mehr Event
 s am Flughafen Tempelhof? Dann werfen Sie einen Blick in unseren Veranstalt
 ungskalender!
LOCATION:Besucherzentrum CHECK-IN
DTSTAMP:20260420T113757Z
DTSTART:20260512T170000Z
DTEND:20260512T190000Z
END:VEVENT
END:VCALENDAR
