BEGIN:VCALENDAR
VERSION:2.0
PRODID:https://github.com/derhansen/sf_event_mgt
METHOD:PUBLISH
BEGIN:VEVENT
UID:603-375@www.thf-berlin.de
CLASS: PUBLIC
SUMMARY:A Techno Ballet Odyssey - 11.12.
DESCRIPTION:Eine spektakuläre Show und eine pulsierende Clubnacht verschmel
 zen zu einem Erlebnis – immersiv, energiegeladen und absolut einzigartig.\n
 \nEine Nacht, drei Akte, ein gemeinsames Erlebnis:\n\nIntro (2,5 Std.)\n\nD
 as Opening DJ-Set setzt den Impuls für die Nacht und schafft die perfekte A
 tmosphäre.\n\nShow (70 Min.) \n\nEine immersive Ballettperformance der Berl
 in Ballet Company, bei der die Tänzer*innen ihre Virtuosität mitten in der 
 Crowd und auf drei Bühnen präsentieren. Die Performance folgt einer Figur, 
 die sich in der Nacht verliert und – wie Odysseus – auf der Suche nach sich
  selbst ist. Diese Reise wird mit klassisch kraftvoller Balletttechnik, ein
 drücklichen Visuals und einem treibenden Techno-Soundtrack erzählt, die den
  Raum in eine hypnotisierende Mischung aus Theater und Club verwandeln. Der
  Soundtrack der Show – komponiert und live performed vom Belgrader DJ -Prod
 uzenten Marko Nastić.\n\nOutro (3 Std.) –\n\nNach der Show geht die Party d
 irekt weiter – mit einem starken DJ-Line-up, dass die Energie der Performan
 ce bis tief in die Nacht weiterführt.\n\nDas ist Ballett in einem neuen Kon
 text.\n\nDas ist Nachtleben – weitergedacht.\n\nDas ist A TECHNO BALLET ODY
 SSEY.
LOCATION:Flughafen Tempelhof Hangar 5
DTSTAMP:20251017T073836Z
DTSTART:20251211T173000Z
DTEND:20251212T003000Z
END:VEVENT
END:VCALENDAR
